BEGIN:VCALENDAR
VERSION:2.0
PRODID:-//AudioTheme 1.8.0
BEGIN:VEVENT
UID:http://josephtawadros.com/?post_type=audiotheme_gig&#038;p=1490
URL:http://josephtawadros.com/concerts/2018-10-30/
DTSTART;TZID=GMT:20181030T080000
SUMMARY:Joseph Tawadros Quartet
DESCRIPTION:Joseph Tawadros (Oud)\, Matt McMahon (piano)\, James Tawadros (Egyptian percussion)\, Karl Dunnicliff (bass)
LOCATION:Camelot Lounge\, Marrickville Rd & Railway Parade\, Marrickville\, NSW\, Australia\, 2204
END:VEVENT
END:VCALENDAR