BEGIN:VCALENDAR
VERSION:2.0
PRODID:-//AudioTheme 1.8.0
BEGIN:VEVENT
UID:http://josephtawadros.com/?post_type=audiotheme_gig&#038;p=1443
URL:http://josephtawadros.com/concerts/2018-10-28/
DTSTART;TZID=GMT:20181028T030000
SUMMARY:Joseph and James Tawadros
DESCRIPTION:Sunday Lunch with Joseph and James Tawadros. Show starts at 2pm\, come earlier for lunch.
LOCATION:Lizottes\, 31 Morehead St   \, Newcastle\, NSW\, Australia\, 2299
END:VEVENT
END:VCALENDAR