BEGIN:VCALENDAR
VERSION:2.0
PRODID:-//AudioTheme 1.8.0
BEGIN:VEVENT
UID:http://josephtawadros.com/?post_type=audiotheme_gig&#038;p=1510
URL:http://josephtawadros.com/concerts/2018-10-27/
DTSTART;TZID=GMT:20181027T090000
SUMMARY:Monsieur Camembert's Leonard Cohen Show
DESCRIPTION:Joseph has a guest spot with Monsieur Camembert in their Leonard Cohen show.
LOCATION:City Recital Hall\, 2-12 Angel Place\, Sydney\, NSW\, Australia\, 2001
END:VEVENT
END:VCALENDAR