BEGIN:VCALENDAR
VERSION:2.0
PRODID:-//AudioTheme 1.8.0
BEGIN:VEVENT
UID:http://josephtawadros.com/?post_type=audiotheme_gig&#038;p=1515
URL:http://josephtawadros.com/concerts/2018-10-26/
DTSTART;TZID=GMT:20181026T073000
SUMMARY:STARTTS 10th Anniversary Refugee Ball 2018
DESCRIPTION:Joseph will present a solo set on a bill with several other acts at the STARTTS Refugee Ball. (NSW Service for the Treatment and Rehabilitation of Torture and Trauma Survivors)
LOCATION:Hyatt Regency Sydney\,   161 Sussex Street  \, Sydney\, NSW\, Australia\, 2001
END:VEVENT
END:VCALENDAR