BEGIN:VCALENDAR
VERSION:2.0
PRODID:-//AudioTheme 1.8.0
BEGIN:VEVENT
UID:http://josephtawadros.com/?post_type=audiotheme_gig&#038;p=1476
URL:http://josephtawadros.com/concerts/2018-10-13/
DTSTART;TZID=GMT:20181013T190000
SUMMARY:The Art of The Oud - Joseph Tawadros In Concert
DESCRIPTION:A solo oud recital 
LOCATION:October Gallery\,   24 Old Gloucester St\, Bloomsbury\, London\, \, United Kingdom
END:VEVENT
END:VCALENDAR