BEGIN:VCALENDAR
VERSION:2.0
PRODID:-//AudioTheme 1.8.0
BEGIN:VEVENT
UID:http://josephtawadros.com/?post_type=audiotheme_gig&#038;p=1441
URL:http://josephtawadros.com/concerts/2018-09-26/
DTSTART;TZID=GMT:20180926T160000
SUMMARY:Joseph Tawadros Solo Concert
DESCRIPTION:Solo concert at Dubai Opera Studio
LOCATION:Dubai Opera\, Sheikh Mohammed Bin Rashid\, Dubai\, \, United Arab Emirates
END:VEVENT
END:VCALENDAR