BEGIN:VCALENDAR
VERSION:2.0
PRODID:-//AudioTheme 1.8.0
BEGIN:VEVENT
UID:http://josephtawadros.com/?post_type=audiotheme_gig&#038;p=1404
URL:http://josephtawadros.com/concerts/2018-07-30/
DTSTART;TZID=GMT:20180730T120000
SUMMARY:BBC Proms - Joseph Tawadros oud recital
DESCRIPTION:BBC Proms presents Joseph Tawadros
LOCATION:Cadogan Hall\,  5 Sloane Terrace\, London \, \, UK\, SW1X 9DQ
END:VEVENT
END:VCALENDAR