BEGIN:VCALENDAR
VERSION:2.0
PRODID:-//AudioTheme 1.8.0
BEGIN:VEVENT
UID:http://josephtawadros.com/?post_type=audiotheme_gig&#038;p=1421
URL:http://josephtawadros.com/concerts/2018-07-19/
DTSTART;TZID=GMT:20180719T190000
SUMMARY:Guitar Festival of Puy-l'Évêque
DESCRIPTION:Guitar Festival of Puy-l'Évêque
LOCATION:Médiathèque Municipale de Puy-l'Évêque\, Place Boizard  Puy-l'Evêque\,  Occitanie\, \, France \, 4700
END:VEVENT
END:VCALENDAR