BEGIN:VCALENDAR
VERSION:2.0
PRODID:-//AudioTheme 1.8.0
BEGIN:VEVENT
UID:http://josephtawadros.com/?post_type=audiotheme_gig&#038;p=1417
URL:http://josephtawadros.com/concerts/2018-07-13/
DTSTART;TZID=GMT:20180713T110000
SUMMARY:GIVE! 2018 Festival
DESCRIPTION:  GIVE! 25 FESTIVAL  13 -16 July  Solo performance\, time TBC
LOCATION:Stanford Hall\, Stanford Hall\, Lutterworth\, \, United Kingdom\, LE17 6DH\, UK
END:VEVENT
END:VCALENDAR