BEGIN:VCALENDAR
VERSION:2.0
PRODID:-//AudioTheme 1.8.0
BEGIN:VEVENT
UID:http://josephtawadros.com/?post_type=audiotheme_gig&#038;p=1411
URL:http://josephtawadros.com/concerts/2018-06-26/
DTSTART;TZID=GMT:20180626T093000
SUMMARY:Joseph & James Tawadros "Telepathy"
DESCRIPTION:The Tawadros brothers present an all-improvised session with an intimate yet casual atmosphere. This will be like a cosy night at their home - playing music and shooting the breeze in the living room.  
LOCATION:Camelot Lounge\, Marrickville Rd & Railway Parade\, Marrickville\, NSW\, Australia\, 2204
END:VEVENT
END:VCALENDAR