BEGIN:VCALENDAR
VERSION:2.0
PRODID:-//AudioTheme 1.8.0
BEGIN:VEVENT
UID:http://josephtawadros.com/?post_type=audiotheme_gig&#038;p=1386
URL:http://josephtawadros.com/concerts/2018-06-14/
DTSTART;TZID=GMT:20180614T093000
SUMMARY:Joseph Tawadros band - music from "The Bluebird" album
DESCRIPTION:Joseph Tawadros - oud  Matt McMahon - piano  Dimitri Vouros - clarinet  Karl Dunnicliff - bass  James Tawadros - req and bendir
LOCATION:Camelot Lounge\, Marrickville Rd & Railway Parade\, Marrickville\, NSW\, Australia\, 2204
END:VEVENT
END:VCALENDAR