BEGIN:VCALENDAR
VERSION:2.0
PRODID:-//AudioTheme 1.8.0
BEGIN:VEVENT
UID:http://josephtawadros.com/?post_type=audiotheme_gig&#038;p=1353
URL:http://josephtawadros.com/concerts/2018-06-12/
DTSTART;TZID=GMT:20180612T093000
SUMMARY:Bird's Basement
DESCRIPTION:Solo oud concert by Joseph Tawadros
LOCATION:Bird's Basement\, 11 Singers Lane\, Melbourne\, Vic\, Australia\, 3000
END:VEVENT
END:VCALENDAR