BEGIN:VCALENDAR
VERSION:2.0
PRODID:-//AudioTheme 1.8.0
BEGIN:VEVENT
UID:http://josephtawadros.com/?post_type=audiotheme_gig&#038;p=1391
URL:http://josephtawadros.com/concerts/2018-06-10/
DTSTART;TZID=GMT:20180610T093000
SUMMARY:Woodend Winter Arts Festival
DESCRIPTION:A solo oud concert at St Ambrose Church
LOCATION:Woodend Winter Arts Festival - St Ambrose Ch.\, 47 Urquart Street\, Woodend\, VIC\, Australia\, 3442
END:VEVENT
END:VCALENDAR