BEGIN:VCALENDAR
VERSION:2.0
PRODID:-//AudioTheme 1.8.0
BEGIN:VEVENT
UID:http://josephtawadros.com/?post_type=audiotheme_gig&#038;p=1318
URL:http://josephtawadros.com/concerts/2018-05-29/
DTSTART;TZID=GMT:20180529T100000
SUMMARY:Australian Chamber Orchestra with Joseph Tawadros and James Tawadros
DESCRIPTION:The Australian Chamber Orchestra\, with:  Joseph Tawadros\, Oud  James Tawadros\, Egyptian percussion  Richard Tognetti\, violin
LOCATION:Yomiuri Otemachi Hall\, 1-7-1 Otemachi Chiyoda \, Tokyo\, \, Japan
END:VEVENT
END:VCALENDAR