BEGIN:VCALENDAR
VERSION:2.0
PRODID:-//AudioTheme 1.8.0
BEGIN:VEVENT
UID:http://josephtawadros.com/?post_type=audiotheme_gig&#038;p=1306
URL:http://josephtawadros.com/concerts/2018-05-20/
DTSTART;TZID=GMT:20180520T050000
SUMMARY:The Angel Suite by Joseph Tawadros
DESCRIPTION:Afternoon concert:  Joseph Tawadros - Oud  James Tawadros - Egyptian percussion  Matt McMahon - Piano  Dmitri Vouros - Clarinet
LOCATION:Elder Hall\, University of Adelaide\, North Terrace\, Adelaide\, South Australia\, 5000
END:VEVENT
END:VCALENDAR