BEGIN:VCALENDAR
VERSION:2.0
PRODID:-//AudioTheme 1.8.0
BEGIN:VEVENT
UID:http://josephtawadros.com/?post_type=audiotheme_gig&#038;p=1295
URL:http://josephtawadros.com/concerts/2018-05-10/
DTSTART;TZID=GMT:20180510T093000
SUMMARY:Album launch: 'The Bluebird, the Mystic and the Fool'
DESCRIPTION:Joseph Tawadros - Oud  Dimitri Vouros - Clarinet  Matt McMahon  - Piano  Karl Dunnicliff - Bass  James Tawadros  - Egyptian percussion
LOCATION:Camelot Lounge\, Marrickville Rd & Railway Parade\, Marrickville\, NSW\, Australia\, 2204
END:VEVENT
END:VCALENDAR