BEGIN:VCALENDAR
VERSION:2.0
PRODID:-//AudioTheme 1.8.0
BEGIN:VEVENT
UID:http://josephtawadros.com/?post_type=audiotheme_gig&#038;p=1348
URL:http://josephtawadros.com/concerts/2018-05-04/
DTSTART;TZID=GMT:20180504T100000
SUMMARY:Joseph Tawadros Quintet at Blue Mountains Theatre
DESCRIPTION:Joseph Tawadros OUD\, James Tawadros EGYPTIAN PERCUSSION\, Matt McMahon PIANO\, Dimitri Vouros CLARINET\,  Karl Dunnicliff BASS
LOCATION:Blue Mountains Theatre\, 104 Macquarie Road\, Springwood\, NSW\, Australia\, 2777
END:VEVENT
END:VCALENDAR