BEGIN:VCALENDAR
VERSION:2.0
PRODID:-//AudioTheme 1.8.0
BEGIN:VEVENT
UID:http://josephtawadros.com/?post_type=audiotheme_gig&#038;p=1263
URL:http://josephtawadros.com/concerts/2017-12-22/
DTSTART;TZID=GMT:20171222T170000
SUMMARY:Joseph Tawadros, Valeriy Sokolov & National Chamber Ensemble "Kyiv Soloists"
DESCRIPTION:Joseph Tawadros (Oud) and Valeriy Sokolov (violin) with the National Chamber Ensemble "Kyiv Soloists" 
LOCATION:National Philharmonic of Ukraine\, Volodymyrs'kyi descent\, 2\, Kyiv\, \, Ukraine\, 02000
END:VEVENT
END:VCALENDAR