BEGIN:VCALENDAR
VERSION:2.0
PRODID:-//AudioTheme 1.8.0
BEGIN:VEVENT
UID:http://josephtawadros.com/?post_type=audiotheme_gig&#038;p=1284
URL:http://josephtawadros.com/concerts/2017-12-03/
DTSTART;TZID=GMT:20171203T183000
SUMMARY:Gorczycki Festival
DESCRIPTION:Morphing Chamber Orchestra Vienna\, Valeriy Sokolov - skrzypce\, prowadzenie orkiestry\,   Joseph Tawadros - oud  
LOCATION:Concert Hall\, 40-166 Plac Wojciecha Kilara\, \,  Katowice\, \,  Poland
END:VEVENT
END:VCALENDAR