BEGIN:VCALENDAR
VERSION:2.0
PRODID:-//AudioTheme 1.8.0
BEGIN:VEVENT
UID:http://josephtawadros.com/?post_type=audiotheme_gig&#038;p=1281
URL:http://josephtawadros.com/concerts/2017-12-01/
DTSTART;TZID=GMT:20171202T183000
SUMMARY:1st Morphing Night
DESCRIPTION:Joseph Tawadros   Valeriy Sokolov   Morphing Chamber Orchestra  DJ Akali
LOCATION:Haas & Haas Porta Dextra\, Ertlgasse 4\, 1010 \, Wien\, \, Austria\, 1010
END:VEVENT
END:VCALENDAR