BEGIN:VCALENDAR
VERSION:2.0
PRODID:-//AudioTheme 1.8.0
BEGIN:VEVENT
UID:http://josephtawadros.com/?post_type=audiotheme_gig&#038;p=1273
URL:http://josephtawadros.com/concerts/2017-11-16/
DTSTART;TZID=GMT:20171116T083000
SUMMARY:Joseph Tawadros Trio last gig until May
DESCRIPTION:Joseph Tawadros Trio - last Sydney concert until May 2018
LOCATION:Camelot Lounge\, Marrickville Rd & Railway Parade\, Marrickville\, NSW\, Australia\, 2204
END:VEVENT
END:VCALENDAR