BEGIN:VCALENDAR
VERSION:2.0
PRODID:-//AudioTheme 1.8.0
BEGIN:VEVENT
UID:http://josephtawadros.com/?post_type=audiotheme_gig&#038;p=1256
URL:http://josephtawadros.com/concerts/2017-11-12/
DTSTART;TZID=GMT:20171112T083000
SUMMARY:Joseph Tawadros and James Tawadros
DESCRIPTION:Joseph Tawadros - Oud  James Tawadros - Egyptian percussion
LOCATION:Avoca Beach Picture Theatre\, 69 Avoca Drive\, Avoca Beach\, NSW\, Australia
END:VEVENT
END:VCALENDAR