BEGIN:VCALENDAR
VERSION:2.0
PRODID:-//AudioTheme 1.8.0
BEGIN:VEVENT
UID:http://josephtawadros.com/?post_type=audiotheme_gig&#038;p=1206
URL:http://josephtawadros.com/concerts/2017-11-09/
DTSTART;TZID=GMT:20171109T083000
SUMMARY:Band of Brothers:  Tawadros and Grigoryan brothers
DESCRIPTION:Joseph Tawadros - Oud  James Tawadros  - Egyptian percussion  Slava Grigoryan - Guitar  Leonard Grigoryan  - Guitar
LOCATION:Melbourne Recital Centre\, 31 Sturt St\, Southbank\, VIC\, Australia\, 3006
END:VEVENT
END:VCALENDAR