BEGIN:VCALENDAR
VERSION:2.0
PRODID:-//AudioTheme 1.8.0
BEGIN:VEVENT
UID:http://josephtawadros.com/?post_type=audiotheme_gig&#038;p=1207
URL:http://josephtawadros.com/concerts/2017-10-30/
DTSTART;TZID=GMT:20171030T083000
SUMMARY:Joseph Tawadros Trio - Twilight Notes 6
DESCRIPTION:Joseph Tawadros\, oud  James Tawadros\, req  Matt McMahon\, piano
LOCATION:Qld Performing Arts Centre\, Corner Grey St & Melbourne St\, Brisbane\, Queensland\, Australia\, 4101
END:VEVENT
END:VCALENDAR