BEGIN:VCALENDAR
VERSION:2.0
PRODID:-//AudioTheme 1.8.0
BEGIN:VEVENT
UID:http://josephtawadros.com/?post_type=audiotheme_gig&#038;p=1221
URL:http://josephtawadros.com/concerts/2017-10-29/
DTSTART;TZID=GMT:20171029T050000
SUMMARY:Tawadros Trio at Regent, Murwillumbah
DESCRIPTION:Trio with Joseph (oud)\,  James Tawadros (Egyptian percussion) and Matt McMahon (piano)
LOCATION:Regent Theatre\, 5 Brisbane Street \, Murwillumbah\, NSW\, Australia\, 2484
END:VEVENT
END:VCALENDAR