BEGIN:VCALENDAR
VERSION:2.0
PRODID:-//AudioTheme 1.8.0
BEGIN:VEVENT
UID:http://josephtawadros.com/?post_type=audiotheme_gig&#038;p=1205
URL:http://josephtawadros.com/concerts/2017-10-21/
DTSTART;TZID=GMT:20171028T083000
SUMMARY:Joseph Tawadros Trio at Casula Powerhouse, Sydney
DESCRIPTION:Joseph Tawadros - oud  James Tawadros - Egyptian percussion  Matt McMahon - piano
LOCATION:Casula Powerhouse Arts Centre\, 1 Powerhouse Road\, Casula\, NSW\, Australia\, 2170
END:VEVENT
END:VCALENDAR