BEGIN:VCALENDAR
VERSION:2.0
PRODID:-//AudioTheme 1.8.0
BEGIN:VEVENT
UID:http://josephtawadros.com/?post_type=audiotheme_gig&#038;p=1247
URL:http://josephtawadros.com/concerts/2017-10-18/
DTSTART;TZID=GMT:20171018T190000
SUMMARY:Joseph Tawadros Solo Oud Recital
DESCRIPTION:The Art of the Oud - solo recital.
LOCATION:October Gallery\,   24 Old Gloucester St\, Bloomsbury\, London\, \, United Kingdom
END:VEVENT
END:VCALENDAR