BEGIN:VCALENDAR
VERSION:2.0
PRODID:-//AudioTheme 1.8.0
BEGIN:VEVENT
UID:http://josephtawadros.com/?post_type=audiotheme_gig&#038;p=1194
URL:http://josephtawadros.com/concerts/2017-08-10/
DTSTART;TZID=GMT:20170810T090000
SUMMARY:Joseph Tawadros Trio
DESCRIPTION:Joseph Tawadros - oud\; Matt McMahon - piano\; James Tawadros - Egyptian percussion
LOCATION:Camelot Lounge\, Marrickville Rd & Railway Parade\, Marrickville\, NSW\, Australia\, 2204
END:VEVENT
END:VCALENDAR