BEGIN:VCALENDAR
VERSION:2.0
PRODID:-//AudioTheme 1.8.0
BEGIN:VEVENT
UID:http://josephtawadros.com/?post_type=audiotheme_gig&#038;p=1128
URL:http://josephtawadros.com/concerts/2017-08-04/
DTSTART;TZID=GMT:20170811T100000
SUMMARY:Joseph Tawadros & James Tawadros
DESCRIPTION:Joseph Tawadros - Oud  James Tawadros -  Req\, Bendir
LOCATION:Bellingen Memorial Hall\, 35 Hyde Street   \, Bellingen\, NSW\, Australia\, 2454
END:VEVENT
END:VCALENDAR