BEGIN:VCALENDAR
VERSION:2.0
PRODID:-//AudioTheme 1.8.0
BEGIN:VEVENT
UID:http://josephtawadros.com/?post_type=audiotheme_gig&#038;p=1147
URL:http://josephtawadros.com/concerts/2017-08-04-2/
DTSTART;TZID=GMT:20170804T093000
SUMMARY:Casula Powerhouse, Sydney
DESCRIPTION:Joseph Tawadros\, Solo Oud Recital  
LOCATION:Casula Powerhouse Arts Centre\, 1 Powerhouse Road\, Casula\, NSW\, Australia\, 2170
END:VEVENT
END:VCALENDAR