BEGIN:VCALENDAR
VERSION:2.0
PRODID:-//AudioTheme 1.8.0
BEGIN:VEVENT
UID:http://josephtawadros.com/?post_type=audiotheme_gig&#038;p=1125
URL:http://josephtawadros.com/concerts/2017-07-30/
DTSTART;TZID=GMT:20170730T040000
SUMMARY:Stradbroke Chamber Music Festival
DESCRIPTION:Joseph performs solo and with string quartet.
LOCATION:Stradbroke Island\, Nth Stradbroke\, Queensland\, Australia\, 4183
END:VEVENT
END:VCALENDAR