BEGIN:VCALENDAR
VERSION:2.0
PRODID:-//AudioTheme 1.8.0
BEGIN:VEVENT
UID:http://josephtawadros.com/?post_type=audiotheme_gig&#038;p=1115
URL:http://josephtawadros.com/concerts/2017-07-21/
DTSTART;TZID=GMT:20170721T100000
SUMMARY:Joseph Tawadros Trio in Newcastle (NSW)
DESCRIPTION:Trio:  Joseph Tawadros - Oud  Matt McMahon - Piano  James Tawadros - Percussion
LOCATION:The Black Malabar (ex Unorthodox Church of Groove)\, 3 Tudor St\, Newcastle\, NSW\, Australia\, 2300
END:VEVENT
END:VCALENDAR