BEGIN:VCALENDAR
VERSION:2.0
PRODID:-//AudioTheme 1.8.0
BEGIN:VEVENT
UID:http://josephtawadros.com/?post_type=audiotheme_gig&#038;p=1114
URL:http://josephtawadros.com/concerts/2017-07-19/
DTSTART;TZID=GMT:20170719T093000
SUMMARY:Joseph Tawadros,  James Tawadros and special guest Matt McMahon
DESCRIPTION:Launching their beautiful new album "Live at Abbey Road"
LOCATION:Camelot Lounge\, Marrickville Rd & Railway Parade\, Marrickville\, NSW\, Australia\, 2204
END:VEVENT
END:VCALENDAR