BEGIN:VCALENDAR
VERSION:2.0
PRODID:-//AudioTheme 1.8.0
BEGIN:VEVENT
UID:http://josephtawadros.com/?post_type=audiotheme_gig&#038;p=1103
URL:http://josephtawadros.com/concerts/2017-06-20/
DTSTART;TZID=GMT:20170620T170000
SUMMARY:O/Modernt Festival, Stockholm
DESCRIPTION: Joseph and O/Modernt String Quartet in a program titled 'Return to the Roots' at the  FESTIVAL O/MODERNT
LOCATION:Ulriksdal Slottsteater
END:VEVENT
END:VCALENDAR