BEGIN:VCALENDAR
VERSION:2.0
PRODID:-//AudioTheme 1.8.0
BEGIN:VEVENT
UID:http://josephtawadros.com/?post_type=audiotheme_gig&#038;p=1072
URL:http://josephtawadros.com/concerts/2017-06-07/
DTSTART;TZID=GMT:20170607T183000
SUMMARY:Solo concert Nottingham
DESCRIPTION:Solo Oud concert in the Djanogly Theatre
LOCATION:Lakeside Arts\, University Park    NG7 2RD\, Nottingham\, \, United Kingdom\, NG7 2RD
END:VEVENT
END:VCALENDAR