BEGIN:VCALENDAR
VERSION:2.0
PRODID:-//AudioTheme 1.8.0
BEGIN:VEVENT
UID:http://josephtawadros.com/?post_type=audiotheme_gig&#038;p=1109
URL:http://josephtawadros.com/concerts/2017-05-10/
DTSTART;TZID=GMT:20170510T093000
SUMMARY:Joseph Tawadros Quartet at Camelot Lounge
DESCRIPTION:Joseph Tawadros Quartet - Joseph (oud)\, James Tawadros (percussion)\, Matt McMahon (piano)\, Karl Dunnicliff (bass)
LOCATION:Camelot Lounge\, Marrickville Rd & Railway Parade\, Marrickville\, NSW\, Australia\, 2204
END:VEVENT
END:VCALENDAR