BEGIN:VCALENDAR
VERSION:2.0
PRODID:-//AudioTheme 1.8.0
BEGIN:VEVENT
UID:http://josephtawadros.com/?post_type=audiotheme_gig&#038;p=1074
URL:http://josephtawadros.com/concerts/2017-04-27/
DTSTART;TZID=GMT:20170427T090000
SUMMARY:Joseph Tawadros Trio
DESCRIPTION:Joseph's first concert in Australia since December - with James Tawadros (percussion) and Matt McMahon (piano) 
LOCATION:Camelot Lounge\, Marrickville Rd & Railway Parade\, Marrickville\, NSW\, Australia\, 2204
END:VEVENT
END:VCALENDAR