BEGIN:VCALENDAR
VERSION:2.0
PRODID:-//AudioTheme 1.8.0
BEGIN:VEVENT
UID:http://josephtawadros.com/?post_type=audiotheme_gig&#038;p=1046
URL:http://josephtawadros.com/concerts/2017-03-24/
DTSTART;TZID=GMT:20170324T160000
SUMMARY:Last Night of the Proms - Works for Oud & Orchestra
DESCRIPTION:Joseph and James Tawadros and the BBC Orchestra perform Joseph's music within a program to celebrate the last night of the BBC Proms at Dubai Opera.
LOCATION:Dubai Opera\, Sheikh Mohammed Bin Rashid\, Dubai\, \, United Arab Emirates
END:VEVENT
END:VCALENDAR