BEGIN:VCALENDAR
VERSION:2.0
PRODID:-//AudioTheme 1.8.0
BEGIN:VEVENT
UID:http://josephtawadros.com/?post_type=audiotheme_gig&#038;p=1044
URL:http://josephtawadros.com/concerts/2017-03-23/
DTSTART;TZID=GMT:20170323T190000
SUMMARY:Late Night Prom - Prom 4 - Tawadros Jazz Quartet
DESCRIPTION:Middle Eastern-Jazz fusion from the World Music oud superstar\, Joseph Tawadros\, and his Quartet
LOCATION:Dubai Opera\, Sheikh Mohammed Bin Rashid\, Dubai\, \, United Arab Emirates
END:VEVENT
END:VCALENDAR