BEGIN:VCALENDAR
VERSION:2.0
PRODID:-//AudioTheme 1.8.0
BEGIN:VEVENT
UID:http://josephtawadros.com/?post_type=audiotheme_gig&#038;p=1082
URL:http://josephtawadros.com/concerts/2017-03-17/
DTSTART;TZID=GMT:20170317T200000
SUMMARY:The Art of the Oud - Joseph & James Tawadros, March 17 at October Gallery
DESCRIPTION:Duo concert with triple ARIA Award winning brothers Joseph Tawadros (Oud) and James Tawadros (Egyptian percussion)
LOCATION:The October Gallery\, 24 Old Gloucester Street  Bloomsbury  LONDON WC1N 3AL  UNITED KINGDOM\, London \, \, United Kingdom\, WC1N3AL
END:VEVENT
END:VCALENDAR