BEGIN:VCALENDAR
VERSION:2.0
PRODID:-//AudioTheme 1.8.0
BEGIN:VEVENT
UID:http://josephtawadros.com/?post_type=audiotheme_gig&#038;p=1067
URL:http://josephtawadros.com/concerts/2017-02-12/
DTSTART;TZID=GMT:20170212T190000
SUMMARY:Ahbab Festival
DESCRIPTION:Joseph Tawadros solo set at Ahbab Festival before 'Two Sisters: An Arabic Opera' 
LOCATION:Cambridge Junction\, Clifton Way\, Cambridge\, \, United Kingdom\, CB1 7GX
END:VEVENT
END:VCALENDAR