BEGIN:VCALENDAR
VERSION:2.0
PRODID:-//AudioTheme 1.8.0
BEGIN:VEVENT
UID:http://josephtawadros.com/?post_type=audiotheme_gig&#038;p=1037
URL:http://josephtawadros.com/concerts/2016-12-19/
DTSTART;TZID=GMT:20161119T200000
SUMMARY:Celebrating Egyptian Culture & Community - London Middle East Institute
DESCRIPTION:London Middle East Institute presents a special cultural day focused on Egypt - highlights include a panel discussion\, presentations\, films - and music by oud virtuoso Joseph Tawadros.    
LOCATION:University of London\, SOAS (School of Oriental and African Studies)\, Thornhaugh Street\, Russell Square\, London \, \, United Kingdom\, WC1H 0XG
END:VEVENT
END:VCALENDAR