BEGIN:VCALENDAR
VERSION:2.0
PRODID:-//AudioTheme 1.8.0
BEGIN:VEVENT
UID:http://josephtawadros.com/?post_type=audiotheme_gig&#038;p=1055
URL:http://josephtawadros.com/concerts/2016-12-16/
DTSTART;TZID=GMT:20161216T083000
SUMMARY:Concert with trio
DESCRIPTION:Trio with James Tawadros and Matt McMahon
LOCATION:Candelo Town Hall\, William St\, Candelo\, NSW\, Australia \, 2550
END:VEVENT
END:VCALENDAR