BEGIN:VCALENDAR
VERSION:2.0
PRODID:-//AudioTheme 1.8.0
BEGIN:VEVENT
UID:http://josephtawadros.com/?post_type=audiotheme_gig&#038;p=1034
URL:http://josephtawadros.com/concerts/2016-12-10/
DTSTART;TZID=GMT:20161210T070000
SUMMARY:Lord Mayor's Christmas Carols
DESCRIPTION:Joseph and James Tawadros join the Christmas joy at Riverstage in the Brisbane Botanical Gardens. The Lord Mayor’s Christmas Carols is a much-loved free family event in support of Mater Little Miracles.
LOCATION:Brisbane Riverstage\, 59 Gardens Point Road\, Brisbane\, Qld\, Australia\, 4000
END:VEVENT
END:VCALENDAR