BEGIN:VCALENDAR
VERSION:2.0
PRODID:-//AudioTheme 1.8.0
BEGIN:VEVENT
UID:http://josephtawadros.com/?post_type=audiotheme_gig&#038;p=1051
URL:http://josephtawadros.com/concerts/2016-11-30/
DTSTART;TZID=GMT:20161130T190000
SUMMARY:University concert and Q&A
DESCRIPTION:Concert\, discussion and Q&A
LOCATION:Campus Moyen-Orient Méditerranée de Sciences Po Paris\, 	  11 Place Saint-Julien\, Menton\, \, France\, 06500
END:VEVENT
END:VCALENDAR