BEGIN:VCALENDAR
VERSION:2.0
PRODID:-//AudioTheme 1.8.0
BEGIN:VEVENT
UID:http://josephtawadros.com/?post_type=audiotheme_gig&#038;p=989
URL:http://josephtawadros.com/concerts/2016-11-18/
DTSTART;TZID=GMT:20161118T080000
SUMMARY:XX Christian Cultural Festival
DESCRIPTION:Joseph Tawadros (oud) \, Tamar Halperin (Piano\, Harpsichord)\, Valeriy Sokolov (Violin). Tomasz Wabnic - Music Director
LOCATION:Klub Wytwórnia\, ul. tqkowa 29\, Łódź\, \, Poland
END:VEVENT
END:VCALENDAR