BEGIN:VCALENDAR
VERSION:2.0
PRODID:-//AudioTheme 1.8.0
BEGIN:VEVENT
UID:http://josephtawadros.com/?post_type=audiotheme_gig&#038;p=987
URL:http://josephtawadros.com/concerts/2016-11-05/
DTSTART;TZID=GMT:20161105T200000
SUMMARY:Nour Festival of Arts
DESCRIPTION:Joseph’s performance features some of his album 'The Prophet' inspired by the poetry of Kahlil Gibran\, among others
LOCATION:Ismaili Centre\, 1-7 Cromwell Gardens\, Kensington\, London\, United KIngdom\, SW7 2SL
END:VEVENT
END:VCALENDAR