BEGIN:VCALENDAR
VERSION:2.0
PRODID:-//AudioTheme 1.8.0
BEGIN:VEVENT
UID:http://josephtawadros.com/?post_type=audiotheme_gig&#038;p=891
URL:http://josephtawadros.com/concerts/2016-10-14/
DTSTART;TZID=GMT:20161014T080000
SUMMARY:Street Theatre with Quartet
DESCRIPTION:Joseph Tawadros and his quartet  perform music from the new album  "World Music' 
LOCATION:Street Theatre\, 15 Childers St\, Canberra\, ACT\, Australia\, 2601
END:VEVENT
END:VCALENDAR