BEGIN:VCALENDAR
VERSION:2.0
PRODID:-//AudioTheme 1.8.0
BEGIN:VEVENT
UID:http://josephtawadros.com/?post_type=audiotheme_gig&#038;p=973
URL:http://josephtawadros.com/concerts/2016-10-10/
DTSTART;TZID=GMT:20161010T083000
SUMMARY:Camelot Lounge
DESCRIPTION:Second show by popular demand while Joseph is briefly back from London!    
LOCATION:Camelot Lounge\, Marrickville Rd & Railway Parade\, Marrickville\, NSW\, Australia\, 2204
END:VEVENT
END:VCALENDAR