BEGIN:VCALENDAR
VERSION:2.0
PRODID:-//AudioTheme 1.8.0
BEGIN:VEVENT
UID:http://josephtawadros.com/?post_type=audiotheme_gig&#038;p=914
URL:http://josephtawadros.com/concerts/2016-09-18/
DTSTART;TZID=GMT:20160918T090000
SUMMARY:Camelot Lounge with quartet
DESCRIPTION:Australian tour: Joseph's first Sydney concert since May!
LOCATION:Camelot Lounge\, Marrickville Rd & Railway Parade\, Marrickville\, NSW\, Australia\, 2204
END:VEVENT
END:VCALENDAR